BEGIN:VCALENDAR
VERSION:2.0
PRODID:< http://www.open2c.de/ >
METHOD:PUBLISH
X-PUBLISHED-TTL:PT12H
BEGIN:VEVENT
CREATED:20230111T120544Z
LAST-MODIFIED:20230111T120635Z
DTSTAMP:20260422T102532Z
DTSTART;VALUE=DATE:20231216
CATEGORIES:Vereine
SUMMARY:Weihnachtsfeier Tell Schützen Train
UID:0a61658cfc6f3a21231a79cfb1e7fb39@02d8b956d09181d7902f0cb315add074
END:VEVENT
BEGIN:VEVENT
CREATED:20230111T120644Z
LAST-MODIFIED:20230111T120719Z
DTSTAMP:20260422T102532Z
DTSTART;VALUE=DATE:20231216
CATEGORIES:Vereine
SUMMARY:Adventfeier der Stockschützen
UID:06a99c9f653c7cddc3334310a0c9d74f@02d8b956d09181d7902f0cb315add074
END:VEVENT
BEGIN:VEVENT
CREATED:20230112T104849Z
LAST-MODIFIED:20230112T105017Z
DTSTAMP:20260422T102532Z
DTSTART;VALUE=DATE:20231216
CATEGORIES:Vereine
SUMMARY:Theater TSV
UID:cb874de408429b1a80bc102c5dce755b@02d8b956d09181d7902f0cb315add074
END:VEVENT
END:VCALENDAR