BEGIN:VCALENDAR
VERSION:2.0
PRODID:< http://www.open2c.de/ >
METHOD:PUBLISH
X-PUBLISHED-TTL:PT12H
BEGIN:VEVENT
CREATED:20260414T091631Z
LAST-MODIFIED:20260414T091712Z
ORGANIZER;CN="Gemeinde Kirchdorf"
DTSTAMP:20260421T081904Z
DTSTART;VALUE=DATE:20260422
CATEGORIES:Sitzungen
SUMMARY:Gemeinderatssitzung Kirchdorf im April
DESCRIPTION:Organisator Gemeinde Kirchdorf
LOCATION:Sitzungszimmer der Gemeindekanzlei
UID:d619fcdcc1f0a2a691f6f01ed1ed05f2@02d8b956d09181d7902f0cb315add074
END:VEVENT
BEGIN:VEVENT
CREATED:20260417T081824Z
LAST-MODIFIED:20260417T082156Z
DTSTAMP:20260421T081904Z
DTSTART;VALUE=DATE:20260424
CATEGORIES:Sitzungen
SUMMARY:Grundstücks- und Bauausschusssitzung Siegenburg 24.04.2026
LOCATION:Rathaus in Siegenburg (Treffpunkt)
UID:3f96b3f450e944311290585b8234c027@02d8b956d09181d7902f0cb315add074
END:VEVENT
BEGIN:VEVENT
CREATED:20260417T081059Z
LAST-MODIFIED:20260417T081332Z
DTSTAMP:20260421T081904Z
DTSTART;VALUE=DATE:20260424
CATEGORIES:Sitzungen
SUMMARY:Marktratssitzung Siegenburg
LOCATION:Sonnensaal der Herzog-Albrecht-Schule in Siegenburg
UID:3a4646e7284f24737f570a6e5bb8ef64@02d8b956d09181d7902f0cb315add074
END:VEVENT
END:VCALENDAR