BEGIN:VCALENDAR
VERSION:2.0
PRODID:< http://www.open2c.de/ >
METHOD:PUBLISH
X-PUBLISHED-TTL:PT12H
BEGIN:VEVENT
CREATED:20260224T073605Z
LAST-MODIFIED:20260224T073823Z
DTSTAMP:20260423T103114Z
DTSTART;VALUE=DATE:20260314
CATEGORIES:Vereine
SUMMARY:Strakbierfest TSV
UID:f1a90350122b523bca0d171941b8d311@02d8b956d09181d7902f0cb315add074
END:VEVENT
END:VCALENDAR