BEGIN:VCALENDAR
VERSION:2.0
PRODID:< http://www.open2c.de/ >
METHOD:PUBLISH
X-PUBLISHED-TTL:PT12H
BEGIN:VEVENT
CREATED:20250102T133542Z
LAST-MODIFIED:20250102T133711Z
ORGANIZER;CN="Gartenbauverein Train"
DTSTAMP:20260422T101729Z
DTSTART;VALUE=DATE:20250221
CATEGORIES:Vereine
SUMMARY:Jahreshauptversammlung Gartenbauverein Train
DESCRIPTION:Organisator Gartenbauverein Train
UID:301bcdf4903e1f1c97a6b5f9e454fc28@02d8b956d09181d7902f0cb315add074
END:VEVENT
END:VCALENDAR