BEGIN:VCALENDAR
VERSION:2.0
PRODID:< http://www.open2c.de/ >
METHOD:PUBLISH
X-PUBLISHED-TTL:PT12H
BEGIN:VEVENT
CREATED:20250102T130927Z
LAST-MODIFIED:20250102T131027Z
DTSTAMP:20260422T102001Z
DTSTART;VALUE=DATE:20250126
CATEGORIES:Vereine
SUMMARY:Neuregelung Biertischgarnituren der Vereine/Gemeinde
UID:f355ec999413dfb839b7fb0af74ec09f@02d8b956d09181d7902f0cb315add074
END:VEVENT
END:VCALENDAR