BEGIN:VCALENDAR
VERSION:2.0
PRODID:< http://www.open2c.de/ >
METHOD:PUBLISH
X-PUBLISHED-TTL:PT12H
BEGIN:VEVENT
CREATED:20241122T143233Z
LAST-MODIFIED:20241122T143436Z
ORGANIZER;CN="Musikschule Train"
DTSTAMP:20260422T101835Z
DTSTART;VALUE=DATE:20241213
CATEGORIES:Konzerte allgemein
SUMMARY:Wichtelkonzert Musikschule
DESCRIPTION:Organisator Musikschule Train
LOCATION:Zehentstadl
UID:d34830af5b7930513e2b21fdd584153f@02d8b956d09181d7902f0cb315add074
END:VEVENT
END:VCALENDAR