BEGIN:VCALENDAR
VERSION:1.0
PRODID:Open2CKalenderExportV11
BEGIN:VEVENT
DTSTAMP:20260414T091712Z
DTSTART:20260422T193000Z
DTEND:20260422T193000Z
CATEGORIES:Sitzungen
SUMMARY:Gemeinderatssitzung Kirchdorf im April
DESCRIPTION: | Organisator   Gemeinde Kirchdorf
LOCATION:Sitzungszimmer der Gemeindekanzlei
UID:2274753dd1db1c48006cd3971ad12891-989c33ee791c0d2e274f0e1a9d0e93f5
PRIORITY:3
END:VEVENT
END:VCALENDAR
