BEGIN:VCALENDAR
VERSION:1.0
PRODID:Open2CKalenderExportV11
BEGIN:VEVENT
DTSTAMP:20260224T073823Z
DTSTART:20260314T000000Z
DTEND:20260314T000000Z
CATEGORIES:Vereine
SUMMARY:Strakbierfest TSV
DESCRIPTION:
LOCATION:
UID:040e19e4f3a4d4667a55fff42cde7fd8-1db4efa4cd9be7cf9205fd029bef9d78
PRIORITY:3
END:VEVENT
END:VCALENDAR
