BEGIN:VCALENDAR
VERSION:1.0
PRODID:Open2CKalenderExportV11
BEGIN:VEVENT
DTSTAMP:20250102T135201Z
DTSTART:20250309T180000Z
DTEND:20250309T180000Z
CATEGORIES:Vereine
SUMMARY:Jahreshauptversammlung Schützenverein Edelweiß St. Johann
DESCRIPTION: | Organisator   Schützenverein Edelweiß St. Johann
LOCATION:
UID:99027e50da73755c0963b4befdd2748b-e57cb31d2b31228dfdd8b3197e0a6e06
PRIORITY:3
END:VEVENT
END:VCALENDAR
