BEGIN:VCALENDAR
VERSION:1.0
PRODID:Open2CKalenderExportV11
BEGIN:VEVENT
DTSTAMP:20250102T133711Z
DTSTART:20250221T000000Z
DTEND:20250221T000000Z
CATEGORIES:Vereine
SUMMARY:Jahreshauptversammlung Gartenbauverein Train
DESCRIPTION: | Organisator   Gartenbauverein Train
LOCATION:
UID:ab9cd74d9468bf7073041a36d1046da2-b732f9d1292b15ed6376b8894c5cbbb6
PRIORITY:3
END:VEVENT
END:VCALENDAR
